BEGIN:VCALENDAR
VERSION:2.0
PRODID:-//Game Dev Graz - ECPv6.3.5//NONSGML v1.0//EN
CALSCALE:GREGORIAN
METHOD:PUBLISH
X-WR-CALNAME:Game Dev Graz
X-ORIGINAL-URL:http://gamedevgraz.at
X-WR-CALDESC:Events for Game Dev Graz
REFRESH-INTERVAL;VALUE=DURATION:PT1H
X-Robots-Tag:noindex
X-PUBLISHED-TTL:PT1H
BEGIN:VTIMEZONE
TZID:Europe/Vienna
BEGIN:DAYLIGHT
TZOFFSETFROM:+0100
TZOFFSETTO:+0200
TZNAME:CEST
DTSTART:20190331T010000
END:DAYLIGHT
BEGIN:STANDARD
TZOFFSETFROM:+0200
TZOFFSETTO:+0100
TZNAME:CET
DTSTART:20191027T010000
END:STANDARD
BEGIN:DAYLIGHT
TZOFFSETFROM:+0100
TZOFFSETTO:+0200
TZNAME:CEST
DTSTART:20200329T010000
END:DAYLIGHT
BEGIN:STANDARD
TZOFFSETFROM:+0200
TZOFFSETTO:+0100
TZNAME:CET
DTSTART:20201025T010000
END:STANDARD
BEGIN:DAYLIGHT
TZOFFSETFROM:+0100
TZOFFSETTO:+0200
TZNAME:CEST
DTSTART:20210328T010000
END:DAYLIGHT
BEGIN:STANDARD
TZOFFSETFROM:+0200
TZOFFSETTO:+0100
TZNAME:CET
DTSTART:20211031T010000
END:STANDARD
BEGIN:DAYLIGHT
TZOFFSETFROM:+0100
TZOFFSETTO:+0200
TZNAME:CEST
DTSTART:20220327T010000
END:DAYLIGHT
BEGIN:STANDARD
TZOFFSETFROM:+0200
TZOFFSETTO:+0100
TZNAME:CET
DTSTART:20221030T010000
END:STANDARD
BEGIN:DAYLIGHT
TZOFFSETFROM:+0100
TZOFFSETTO:+0200
TZNAME:CEST
DTSTART:20230326T010000
END:DAYLIGHT
BEGIN:STANDARD
TZOFFSETFROM:+0200
TZOFFSETTO:+0100
TZNAME:CET
DTSTART:20231029T010000
END:STANDARD
BEGIN:DAYLIGHT
TZOFFSETFROM:+0100
TZOFFSETTO:+0200
TZNAME:CEST
DTSTART:20240331T010000
END:DAYLIGHT
BEGIN:STANDARD
TZOFFSETFROM:+0200
TZOFFSETTO:+0100
TZNAME:CET
DTSTART:20241027T010000
END:STANDARD
BEGIN:DAYLIGHT
TZOFFSETFROM:+0100
TZOFFSETTO:+0200
TZNAME:CEST
DTSTART:20250330T010000
END:DAYLIGHT
BEGIN:STANDARD
TZOFFSETFROM:+0200
TZOFFSETTO:+0100
TZNAME:CET
DTSTART:20251026T010000
END:STANDARD
END:VTIMEZONE
BEGIN:VEVENT
DTSTART;TZID=Europe/Vienna:20250508T190000
DTEND;TZID=Europe/Vienna:20250508T220000
DTSTAMP:20260424T155604
CREATED:20250109T141023Z
LAST-MODIFIED:20250109T141023Z
UID:2698-1746730800-1746741600@gamedevgraz.at
SUMMARY:Game Dev Meetup\, May 2025
DESCRIPTION:
URL:http://gamedevgraz.at/event/game-dev-meetup-may-2025/
LOCATION:Lendhafen\, Lendkai 17\, Graz\, 8020\, Austria
CATEGORIES:Meetup
END:VEVENT
BEGIN:VEVENT
DTSTART;TZID=Europe/Vienna:20250410T190000
DTEND;TZID=Europe/Vienna:20250410T220000
DTSTAMP:20260424T155604
CREATED:20250114T151551Z
LAST-MODIFIED:20250114T151551Z
UID:2710-1744311600-1744322400@gamedevgraz.at
SUMMARY:Game Dev Meetup\, April 2025
DESCRIPTION:
URL:http://gamedevgraz.at/event/game-dev-meetup-april-2025/
LOCATION:Rarebyte Office Graz\, Wickenburggasse 32\, Graz\, Steiermark\, 8010\, Österreich
CATEGORIES:Meetup
END:VEVENT
BEGIN:VEVENT
DTSTART;TZID=Europe/Vienna:20250313T190000
DTEND;TZID=Europe/Vienna:20250313T220000
DTSTAMP:20260424T155604
CREATED:20250109T140908Z
LAST-MODIFIED:20250109T140908Z
UID:2695-1741892400-1741903200@gamedevgraz.at
SUMMARY:Game Dev Meetup\, March 2025
DESCRIPTION:
URL:http://gamedevgraz.at/event/game-dev-meetup-march-2025/
LOCATION:Lendhafen\, Lendkai 17\, Graz\, 8020\, Austria
CATEGORIES:Meetup
END:VEVENT
BEGIN:VEVENT
DTSTART;TZID=Europe/Vienna:20250213T190000
DTEND;TZID=Europe/Vienna:20250213T220000
DTSTAMP:20260424T155604
CREATED:20250109T140637Z
LAST-MODIFIED:20250119T142950Z
UID:2693-1739473200-1739484000@gamedevgraz.at
SUMMARY:Game Dev Meetup\, February 2025
DESCRIPTION:
URL:http://gamedevgraz.at/event/game-dev-meetup-february-2025/
LOCATION:TU Graz – GameLab\, Sandgasse 36\, Graz\, Austria
CATEGORIES:Meetup
END:VEVENT
BEGIN:VEVENT
DTSTART;TZID=Europe/Vienna:20250117T190000
DTEND;TZID=Europe/Vienna:20250117T220000
DTSTAMP:20260424T155604
CREATED:20250109T140332Z
LAST-MODIFIED:20250109T140706Z
UID:2691-1737140400-1737151200@gamedevgraz.at
SUMMARY:Game Dev Meetup\, January 2025
DESCRIPTION:
URL:http://gamedevgraz.at/event/game-dev-meetup-january-2024-2/
LOCATION:Lendhafen\, Lendkai 17\, Graz\, 8020\, Austria
CATEGORIES:Meetup
END:VEVENT
BEGIN:VEVENT
DTSTART;TZID=Europe/Vienna:20241218T190000
DTEND;TZID=Europe/Vienna:20241218T220000
DTSTAMP:20260424T155604
CREATED:20241030T141512Z
LAST-MODIFIED:20241115T090539Z
UID:2664-1734548400-1734559200@gamedevgraz.at
SUMMARY:Game Dev Meetup\, December 2024
DESCRIPTION:
URL:http://gamedevgraz.at/event/game-dev-meetup-december-2024/
LOCATION:Steiermark
CATEGORIES:Meetup
END:VEVENT
BEGIN:VEVENT
DTSTART;TZID=Europe/Vienna:20241114T190000
DTEND;TZID=Europe/Vienna:20241114T220000
DTSTAMP:20260424T155604
CREATED:20241030T141229Z
LAST-MODIFIED:20241030T141229Z
UID:2662-1731610800-1731621600@gamedevgraz.at
SUMMARY:Game Dev Meetup\, November 2024
DESCRIPTION:
URL:http://gamedevgraz.at/event/game-dev-meetup-november-2024/
LOCATION:Lendhafen\, Lendkai 17\, Graz\, 8020\, Austria
CATEGORIES:Meetup
END:VEVENT
BEGIN:VEVENT
DTSTART;TZID=Europe/Vienna:20240905T190000
DTEND;TZID=Europe/Vienna:20240905T230000
DTSTAMP:20260424T155604
CREATED:20240902T161748Z
LAST-MODIFIED:20240902T161748Z
UID:2658-1725562800-1725577200@gamedevgraz.at
SUMMARY:Game Dev Meetup\, September 2024
DESCRIPTION:
URL:http://gamedevgraz.at/event/game-dev-meetup-september-2024/
LOCATION:Lendhafen\, Lendkai 17\, Graz\, 8020\, Austria
CATEGORIES:Meetup
END:VEVENT
BEGIN:VEVENT
DTSTART;TZID=Europe/Vienna:20240508T190000
DTEND;TZID=Europe/Vienna:20240508T220000
DTSTAMP:20260424T155604
CREATED:20240420T121931Z
LAST-MODIFIED:20240420T121931Z
UID:2644-1715194800-1715205600@gamedevgraz.at
SUMMARY:Game Dev Meetup\, May 2024
DESCRIPTION:
URL:http://gamedevgraz.at/event/game-dev-meetup-may-2024/
LOCATION:Lendhafen\, Lendkai 17\, Graz\, 8020\, Austria
CATEGORIES:Meetup
END:VEVENT
BEGIN:VEVENT
DTSTART;TZID=Europe/Vienna:20240305T190000
DTEND;TZID=Europe/Vienna:20240305T220000
DTSTAMP:20260424T155604
CREATED:20240202T083807Z
LAST-MODIFIED:20240226T053018Z
UID:2463-1709665200-1709676000@gamedevgraz.at
SUMMARY:Game Dev Meetup\, March 2024
DESCRIPTION:More information here: Game Dev Meetup – Spreadsheet
URL:http://gamedevgraz.at/event/game-dev-meetup-march-2024/
LOCATION:Lendhafen\, Lendkai 17\, Graz\, 8020\, Austria
CATEGORIES:Meetup
END:VEVENT
BEGIN:VEVENT
DTSTART;TZID=Europe/Vienna:20240208T190000
DTEND;TZID=Europe/Vienna:20240208T220000
DTSTAMP:20260424T155604
CREATED:20240202T083424Z
LAST-MODIFIED:20240202T083950Z
UID:2459-1707418800-1707429600@gamedevgraz.at
SUMMARY:Game Dev Meetup\, February 2024
DESCRIPTION:More information here: Game Dev Meetup – Spreadsheet
URL:http://gamedevgraz.at/event/game-dev-meetup-june-2024/
LOCATION:TU Graz – GameLab\, Sandgasse 36\, Graz\, Austria
CATEGORIES:Meetup
END:VEVENT
BEGIN:VEVENT
DTSTART;TZID=Europe/Vienna:20240111T190000
DTEND;TZID=Europe/Vienna:20240111T220000
DTSTAMP:20260424T155604
CREATED:20231223T090453Z
LAST-MODIFIED:20240109T162130Z
UID:2367-1704999600-1705010400@gamedevgraz.at
SUMMARY:Game Dev Meetup\, January 2024
DESCRIPTION:Monthly in person game development meetup in Graz.\n\nAn open for everyone gathering of people interested in games & game development. Show your games\, prototypes\, and concepts to playtest and get feedback. Share gamedev related knowledge & ideas\, talk and hang out.\n\n\n🎲 The focus is on video games\, but we also cherish TRPGs and all kinds of analog games.\n👋 No need to register. Just show up at the scene. Free entry. All skill levels are welcome.\n🎤 There’s a beamer\, mic\, and stage for talks and presentations.\n🍺 Some snacks and drinks will be provided\, but feel free to bring your own as well.\n\n\nIf you want to show your game\, prototype\, project\, or give a talk at the upcoming meetup and want it on the schedule\, contact us or submit it here.\n\nSchedule and more details
URL:http://gamedevgraz.at/event/game-dev-meetup-january-2024/
LOCATION:Lendhafen\, Lendkai 17\, Graz\, 8020\, Austria
CATEGORIES:Meetup
ATTACH;FMTTYPE=image/jpeg:http://gamedevgraz.at/wp-content/uploads/2023/05/13_GDG-Meetup-Nov22.jpg
END:VEVENT
BEGIN:VEVENT
DTSTART;TZID=Europe/Vienna:20231211T190000
DTEND;TZID=Europe/Vienna:20231211T220000
DTSTAMP:20260424T155604
CREATED:20230511T164922Z
LAST-MODIFIED:20231205T193041Z
UID:2033-1702321200-1702332000@gamedevgraz.at
SUMMARY:Game Dev Meetup\, December 2023
DESCRIPTION:Monthly in person game dev meetup in Graz. \nBig thanks to our hosts at Ludovico! \nIf you’re interested in game development or making games yourself\, come meet up and hang out. Everyone is welcome. \nIf you want to show your game\, prototype\, project\, or give a talk at the upcoming meetup and want it on the schedule\, submit it here. \nSchedule in this here Google Sheet
URL:http://gamedevgraz.at/event/game-dev-meetup-december-2023/
LOCATION:Ludovico\,  Karmeliterplatz 2 \, Graz\, 8010\, Österreich
CATEGORIES:Meetup
ATTACH;FMTTYPE=image/jpeg:http://gamedevgraz.at/wp-content/uploads/2023/03/GDG_Meetup_Ludovico-scaled.jpg
END:VEVENT
BEGIN:VEVENT
DTSTART;TZID=Europe/Vienna:20231109T190000
DTEND;TZID=Europe/Vienna:20231109T220000
DTSTAMP:20260424T155604
CREATED:20230511T164527Z
LAST-MODIFIED:20231109T145402Z
UID:2031-1699556400-1699567200@gamedevgraz.at
SUMMARY:Game Dev Meetup\, November 2023
DESCRIPTION:An open for everyone gathering of people interested in games & game development. Show your games\, prototypes\, and concepts to playtest and get feedback. Share gamedev related knowledge & ideas\, talk and hang out. \n🎲 The focus is on video games\, but we also cherish TRPGs and all kinds of analog games. \n👋 No need to register. Just show up at the scene. Free entry. All skill levels are welcome. \n🎤 There’s a beamer\, mic\, and stage for talks and presentations. \n🍺 Some snacks and drinks will be provided\, but feel free to bring your own as well. \n  \nThis time Flo (Centi Games) is going to give a little post-mortem about his game Sisypush. \n  \nMore Info here: https://docs.google.com/spreadsheets/d/1l5Rj5K99k5tvRQHcpyq5rwPakv1dPYDG_B9IJ5-LxZY/view#gid=994125992
URL:http://gamedevgraz.at/event/game-dev-meetup-november-2023/
LOCATION:Lendhafen\, Lendkai 17\, Graz\, 8020\, Austria
CATEGORIES:Meetup
ATTACH;FMTTYPE=image/jpeg:http://gamedevgraz.at/wp-content/uploads/2023/05/13_GDG-Meetup-Nov22.jpg
END:VEVENT
BEGIN:VEVENT
DTSTART;TZID=Europe/Vienna:20231025T190000
DTEND;TZID=Europe/Vienna:20231025T220000
DTSTAMP:20260424T155604
CREATED:20231023T094921Z
LAST-MODIFIED:20231023T201853Z
UID:2221-1698260400-1698271200@gamedevgraz.at
SUMMARY:Game Dev Hangout with WeLove.Audio
DESCRIPTION:A chill hangout from and with the game dev community in Graz\, hosted at our good friends of WeLove.Audio.\n\nCome one\, come all! Bring your own snacks if you want.\n\nWe’ll probably reminisce and recount a bit about the recent Game Dev Days and otherwise just meet up\, hang out\, chat and have a good time.
URL:http://gamedevgraz.at/event/game-dev-hangout-with-welove-audio/
LOCATION:Green Lobster Recording Studios\, Green Lobster Recording Studios\, Sandgasse 39\, 8010 Graz\, Graz\, 8010\, Austria
CATEGORIES:Meetup
ATTACH;FMTTYPE=image/jpeg:http://gamedevgraz.at/wp-content/uploads/2023/10/10_Meetup042023_GreenLobster.jpg
END:VEVENT
BEGIN:VEVENT
DTSTART;TZID=Europe/Vienna:20230713T190000
DTEND;TZID=Europe/Vienna:20230713T220000
DTSTAMP:20260424T155604
CREATED:20230511T164117Z
LAST-MODIFIED:20230511T164226Z
UID:2028-1689274800-1689285600@gamedevgraz.at
SUMMARY:Game Dev Meetup July\, 2023
DESCRIPTION:More Info here: https://docs.google.com/spreadsheets/d/1l5Rj5K99k5tvRQHcpyq5rwPakv1dPYDG_B9IJ5-LxZY/view#gid=994125992
URL:http://gamedevgraz.at/event/game-dev-meetup-july-2023/
LOCATION:Lendhafen\, Lendkai 17\, Graz\, 8020\, Austria
CATEGORIES:Meetup
END:VEVENT
BEGIN:VEVENT
DTSTART;TZID=Europe/Vienna:20230608T190000
DTEND;TZID=Europe/Vienna:20230608T220000
DTSTAMP:20260424T155604
CREATED:20230511T163934Z
LAST-MODIFIED:20230605T164847Z
UID:2026-1686250800-1686261600@gamedevgraz.at
SUMMARY:Game Dev Meetup June 2023
DESCRIPTION:More Info here: https://docs.google.com/spreadsheets/d/1l5Rj5K99k5tvRQHcpyq5rwPakv1dPYDG_B9IJ5-LxZY/view#gid=994125992
URL:http://gamedevgraz.at/event/game-dev-meetup-june-2023/
LOCATION:TU Graz – GameLab\, Sandgasse 36\, Graz\, Austria
CATEGORIES:Meetup
END:VEVENT
BEGIN:VEVENT
DTSTART;TZID=Europe/Vienna:20230511T190000
DTEND;TZID=Europe/Vienna:20230511T220000
DTSTAMP:20260424T155604
CREATED:20230310T155032Z
LAST-MODIFIED:20230511T164150Z
UID:1881-1683831600-1683842400@gamedevgraz.at
SUMMARY:Game Dev Meetup\, May 2023
DESCRIPTION:More Info here: https://docs.google.com/spreadsheets/d/1l5Rj5K99k5tvRQHcpyq5rwPakv1dPYDG_B9IJ5-LxZY/view#gid=994125992
URL:http://gamedevgraz.at/event/game-dev-meetup-may-2023/
LOCATION:Lendhafen\, Lendkai 17\, Graz\, 8020\, Austria
CATEGORIES:Meetup
END:VEVENT
BEGIN:VEVENT
DTSTART;TZID=Europe/Vienna:20230316T190000
DTEND;TZID=Europe/Vienna:20230316T220000
DTSTAMP:20260424T155604
CREATED:20230310T154842Z
LAST-MODIFIED:20230314T140249Z
UID:1879-1678993200-1679004000@gamedevgraz.at
SUMMARY:Game Dev Meetup\, March 2023
DESCRIPTION:The monthly Game Dev Meetups are a place to connect with each other\, discuss game related topics\, present your own games and prototypes\, look for playtesting and feedback\, and to just hang out\, chill\, and stay up to date with community happenings. \n   \nMore overall meetup details \nMeetup schedule Google Sheet
URL:http://gamedevgraz.at/event/game-dev-meetup-march-2023/
LOCATION:Lendhafen\, Lendkai 17\, Graz\, 8020\, Austria
CATEGORIES:Meetup
ATTACH;FMTTYPE=image/jpeg:http://gamedevgraz.at/wp-content/uploads/2022/12/i-qqFxq7M-X3.jpg
END:VEVENT
BEGIN:VEVENT
DTSTART;TZID=Europe/Vienna:20230209T190000
DTEND;TZID=Europe/Vienna:20230209T220000
DTSTAMP:20260424T155604
CREATED:20221229T172916Z
LAST-MODIFIED:20221229T172916Z
UID:1808-1675969200-1675980000@gamedevgraz.at
SUMMARY:Game Dev Meetup\, February 2023
DESCRIPTION:More Info here: https://docs.google.com/spreadsheets/d/1l5Rj5K99k5tvRQHcpyq5rwPakv1dPYDG_B9IJ5-LxZY/view#gid=413672423 \n  \n 
URL:http://gamedevgraz.at/event/game-dev-meetup-february-2023/
LOCATION:Codeflügel\, Paulustorgasse 8\, Graz\, Styria\, 8010\, Austria
CATEGORIES:Meetup
END:VEVENT
BEGIN:VEVENT
DTSTART;TZID=Europe/Vienna:20230112T190000
DTEND;TZID=Europe/Vienna:20230112T220000
DTSTAMP:20260424T155604
CREATED:20221201T184347Z
LAST-MODIFIED:20221229T172941Z
UID:1783-1673550000-1673560800@gamedevgraz.at
SUMMARY:Game Dev Meetup\, January 2023
DESCRIPTION:More Info here: https://docs.google.com/spreadsheets/d/1l5Rj5K99k5tvRQHcpyq5rwPakv1dPYDG_B9IJ5-LxZY/view#gid=2036792109
URL:http://gamedevgraz.at/event/game-dev-meetup-january-2023/
LOCATION:Lendhafen\, Lendkai 17\, Graz\, 8020\, Austria
CATEGORIES:Meetup
END:VEVENT
BEGIN:VEVENT
DTSTART;TZID=Europe/Vienna:20221215T190000
DTEND;TZID=Europe/Vienna:20221215T220000
DTSTAMP:20260424T155604
CREATED:20221201T183830Z
LAST-MODIFIED:20221201T184656Z
UID:1781-1671130800-1671141600@gamedevgraz.at
SUMMARY:Game Dev Meetup\, December 2022
DESCRIPTION:More info here.
URL:http://gamedevgraz.at/event/game-dev-meetup-december-2022/
LOCATION:Ludovico\,  Karmeliterplatz 2 \, Graz\, 8010\, Österreich
CATEGORIES:Meetup
END:VEVENT
BEGIN:VEVENT
DTSTART;TZID=Europe/Vienna:20191211T200000
DTEND;TZID=Europe/Vienna:20191211T220000
DTSTAMP:20260424T155604
CREATED:20190801T180005Z
LAST-MODIFIED:20191210T093728Z
UID:1544-1576094400-1576101600@gamedevgraz.at
SUMMARY:Game Dev Meetup\, December 2019
DESCRIPTION:The meetup is going to be a little different this time. We’re going for some Glühwein and chill (haha\, get it? Cause it’s cold outside) so it’s going to be outdoors\, no talks or anything\, just a nice and cool get-together. Oh and\, better wear some warm attire.\n\n\n\nThe meeting place it at the northern entry of the Christmas market at 20:00. If we’re not there when you arrive then just walk around the area chanting the GameDevGraz Hymn* until we show ourselves.\n\n\n\n\n\n\n\n\n*scream “GameDevGraz” at the top of your lungs\n\n\n\n\nSee you there! ?
URL:http://gamedevgraz.at/event/indie-game-meetup-december-2019/
LOCATION:Adventmarkt im Joanneumsviertel\, Joanneumsviertel\, Graz\, 8010\, Austria
CATEGORIES:Meetup
ATTACH;FMTTYPE=image/png:http://gamedevgraz.at/wp-content/uploads/2015/07/igcmg.png
END:VEVENT
BEGIN:VEVENT
DTSTART;TZID=Europe/Vienna:20191113T200000
DTEND;TZID=Europe/Vienna:20191113T220000
DTSTAMP:20260424T155604
CREATED:20190801T180005Z
LAST-MODIFIED:20191111T135457Z
UID:1542-1573675200-1573682400@gamedevgraz.at
SUMMARY:Game Dev Meetup\, November 2019
DESCRIPTION:More info here.
URL:http://gamedevgraz.at/event/indie-game-meetup-november-2019/
LOCATION:Golem Digital\, Villefortgasse 11\, Graz\, 8010\, Austria
CATEGORIES:Meetup
ATTACH;FMTTYPE=image/png:http://gamedevgraz.at/wp-content/uploads/2015/07/igcmg.png
END:VEVENT
BEGIN:VEVENT
DTSTART;TZID=Europe/Vienna:20191016T200000
DTEND;TZID=Europe/Vienna:20191016T220000
DTSTAMP:20260424T155604
CREATED:20190801T180005Z
LAST-MODIFIED:20190805T142736Z
UID:1540-1571256000-1571263200@gamedevgraz.at
SUMMARY:Game Dev Meetup\, October 2019
DESCRIPTION:More info here.
URL:http://gamedevgraz.at/event/indie-game-meetup-october-2019/
LOCATION:Spektral\, Lendkai 45\, Graz\, 8020\, Österreich
CATEGORIES:Meetup
ATTACH;FMTTYPE=image/png:http://gamedevgraz.at/wp-content/uploads/2015/07/igcmg.png
END:VEVENT
BEGIN:VEVENT
DTSTART;TZID=Europe/Vienna:20190911T200000
DTEND;TZID=Europe/Vienna:20190911T220000
DTSTAMP:20260424T155604
CREATED:20190801T180005Z
LAST-MODIFIED:20190805T141954Z
UID:1538-1568232000-1568239200@gamedevgraz.at
SUMMARY:Game Dev Meetup\, September 2019
DESCRIPTION:More info here.
URL:http://gamedevgraz.at/event/indie-game-meetup-september-2019/
LOCATION:Spektral\, Lendkai 45\, Graz\, 8020\, Österreich
CATEGORIES:Meetup
ATTACH;FMTTYPE=image/png:http://gamedevgraz.at/wp-content/uploads/2015/07/igcmg.png
END:VEVENT
BEGIN:VEVENT
DTSTART;TZID=Europe/Vienna:20190814T200000
DTEND;TZID=Europe/Vienna:20190814T220000
DTSTAMP:20260424T155604
CREATED:20190801T180005Z
LAST-MODIFIED:20190805T141823Z
UID:1533-1565812800-1565820000@gamedevgraz.at
SUMMARY:Game Dev Meetup\, August 2019
DESCRIPTION:More info here.
URL:http://gamedevgraz.at/event/indie-game-meetup-august-2019/
LOCATION:Spektral\, Lendkai 45\, Graz\, 8020\, Österreich
CATEGORIES:Meetup
ATTACH;FMTTYPE=image/png:http://gamedevgraz.at/wp-content/uploads/2015/07/igcmg.png
END:VEVENT
BEGIN:VEVENT
DTSTART;TZID=Europe/Vienna:20190612T200000
DTEND;TZID=Europe/Vienna:20190612T220000
DTSTAMP:20260424T155604
CREATED:20190501T072205Z
LAST-MODIFIED:20190610T203236Z
UID:1517-1560369600-1560376800@gamedevgraz.at
SUMMARY:Game Dev Meetup\, June 2019
DESCRIPTION:More info: https://docs.google.com/spreadsheets/d/1l5Rj5K99k5tvRQHcpyq5rwPakv1dPYDG_B9IJ5-LxZY/edit#gid=782217997 \n 
URL:http://gamedevgraz.at/event/indie-game-meetup-june-2019/
LOCATION:Spektral\, Lendkai 45\, Graz\, 8020\, Österreich
CATEGORIES:Meetup
ATTACH;FMTTYPE=image/png:http://gamedevgraz.at/wp-content/uploads/2015/07/igcmg.png
END:VEVENT
BEGIN:VEVENT
DTSTART;TZID=Europe/Vienna:20190515T200000
DTEND;TZID=Europe/Vienna:20190515T220000
DTSTAMP:20260424T155604
CREATED:20190411T072205Z
LAST-MODIFIED:20190513T200435Z
UID:1516-1557950400-1557957600@gamedevgraz.at
SUMMARY:Game Dev Meetup\, Mai 2019
DESCRIPTION:Schedule:\n– 20:00 Indie Half-Hour\n– 20:30 Local News & Events\n– 20:45 ‘Showcase of My Ludum Dare Game’ by Anton Klinger\n– 21:00 ‘Fluid Simulation in Games for Fun and Profit’ by Lorenz Jäger\n– 21:30 Game Development News\n– Crunch at Epic and It’s Benefits\n– Epic buys Psyonix\n– Mental Costs of Developing Extremely Violent Games\n– … (bring your own topics!)\n– If there’s still time in the end we might check out some noteworthy games from the most recent Ludum Dare Jam! \nMore info: https://docs.google.com/spreadsheets/d/1l5Rj5K99k5tvRQHcpyq5rwPakv1dPYDG_B9IJ5-LxZY/edit#gid=1126822767 \n 
URL:http://gamedevgraz.at/event/indie-game-meetup-may-2019/
LOCATION:Spektral\, Lendkai 45\, Graz\, 8020\, Österreich
CATEGORIES:Meetup
ATTACH;FMTTYPE=image/png:http://gamedevgraz.at/wp-content/uploads/2015/07/igcmg.png
END:VEVENT
BEGIN:VEVENT
DTSTART;TZID=Europe/Vienna:20190417T200000
DTEND;TZID=Europe/Vienna:20190417T220000
DTSTAMP:20260424T155604
CREATED:20190408T072205Z
LAST-MODIFIED:20190408T045946Z
UID:1518-1555531200-1555538400@gamedevgraz.at
SUMMARY:Game Dev Meetup\, April 2019
DESCRIPTION:More info: https://docs.google.com/spreadsheets/d/1l5Rj5K99k5tvRQHcpyq5rwPakv1dPYDG_B9IJ5-LxZY/edit#gid=803831119 \n  \n 
URL:http://gamedevgraz.at/event/indie-game-meetup-september-2018-2-2-6-2/
LOCATION:Spektral\, Lendkai 45\, Graz\, 8020\, Österreich
CATEGORIES:Meetup
ATTACH;FMTTYPE=image/png:http://gamedevgraz.at/wp-content/uploads/2015/07/igcmg.png
END:VEVENT
END:VCALENDAR