BEGIN:VCALENDAR
VERSION:2.0
PRODID:-//Game Dev Graz - ECPv6.3.5//NONSGML v1.0//EN
CALSCALE:GREGORIAN
METHOD:PUBLISH
X-ORIGINAL-URL:http://gamedevgraz.at
X-WR-CALDESC:Events for Game Dev Graz
REFRESH-INTERVAL;VALUE=DURATION:PT1H
X-Robots-Tag:noindex
X-PUBLISHED-TTL:PT1H
BEGIN:VTIMEZONE
TZID:Europe/Vienna
BEGIN:DAYLIGHT
TZOFFSETFROM:+0100
TZOFFSETTO:+0200
TZNAME:CEST
DTSTART:20250330T010000
END:DAYLIGHT
BEGIN:STANDARD
TZOFFSETFROM:+0200
TZOFFSETTO:+0100
TZNAME:CET
DTSTART:20251026T010000
END:STANDARD
END:VTIMEZONE
BEGIN:VEVENT
DTSTART;TZID=Europe/Vienna:20250307T160000
DTEND;TZID=Europe/Vienna:20250308T180000
DTSTAMP:20260425T174924
CREATED:20250109T141221Z
LAST-MODIFIED:20250109T141221Z
UID:2700-1741363200-1741456800@gamedevgraz.at
SUMMARY:GameDevGraz @ button Festival 2025
DESCRIPTION:We are again taking part in this years button Festival\, the Festival of Gaming Culture in Graz.\nAt the Festival we are organizing spots for you to present your games\, and award our prestigious StyriAn Games Award – the SAGA.
URL:http://gamedevgraz.at/event/gamedevgraz-button-festival-2025/
LOCATION:Messe Congress Graz\, Messeplatz 1\, Graz\, 8010\, Austria
CATEGORIES:Ausstellung,Game Presentations,Indie Games
END:VEVENT
END:VCALENDAR