BEGIN:VCALENDAR
VERSION:2.0
PRODID:-//Game Dev Graz - ECPv6.3.5//NONSGML v1.0//EN
CALSCALE:GREGORIAN
METHOD:PUBLISH
X-ORIGINAL-URL:https://gamedevgraz.at
X-WR-CALDESC:Events for Game Dev Graz
REFRESH-INTERVAL;VALUE=DURATION:PT1H
X-Robots-Tag:noindex
X-PUBLISHED-TTL:PT1H
BEGIN:VTIMEZONE
TZID:Europe/Vienna
BEGIN:DAYLIGHT
TZOFFSETFROM:+0100
TZOFFSETTO:+0200
TZNAME:CEST
DTSTART:20240331T010000
END:DAYLIGHT
BEGIN:STANDARD
TZOFFSETFROM:+0200
TZOFFSETTO:+0100
TZNAME:CET
DTSTART:20241027T010000
END:STANDARD
END:VTIMEZONE
BEGIN:VEVENT
DTSTART;TZID=Europe/Vienna:20241208T100000
DTEND;TZID=Europe/Vienna:20241208T230000
DTSTAMP:20260425T220209
CREATED:20241030T141705Z
LAST-MODIFIED:20241030T141946Z
UID:2666-1733652000-1733698800@gamedevgraz.at
SUMMARY:Analog Game Jam @Ludovico
DESCRIPTION:
URL:https://gamedevgraz.at/event/analog-game-jam-ludovico/
LOCATION:Ludovico\,  Karmeliterplatz 2 \, Graz\, 8010\, Österreich
CATEGORIES:Game Jam
END:VEVENT
END:VCALENDAR